Package: CopyNeutralIMA Version: 1.26.0 Command: /home/biocbuild/bbs-3.21-bioc/R/bin/R CMD INSTALL CopyNeutralIMA StartedAt: 2025-07-10 10:57:58 -0400 (Thu, 10 Jul 2025) EndedAt: 2025-07-10 10:58:15 -0400 (Thu, 10 Jul 2025) EllapsedTime: 16.9 seconds RetCode: 0 Status: OK