Package: DropletTestFiles Version: 1.18.0 Command: /home/biocbuild/bbs-3.21-bioc/R/bin/R CMD INSTALL DropletTestFiles StartedAt: 2025-07-15 10:57:35 -0400 (Tue, 15 Jul 2025) EndedAt: 2025-07-15 10:57:48 -0400 (Tue, 15 Jul 2025) EllapsedTime: 12.9 seconds RetCode: 0 Status: OK