Package: DuoClustering2018 Version: 1.26.0 Command: /home/biocbuild/bbs-3.21-bioc/R/bin/R CMD build --keep-empty-dirs --no-resave-data DuoClustering2018 StartedAt: 2025-07-15 11:14:23 -0400 (Tue, 15 Jul 2025) EndedAt: 2025-07-15 11:15:59 -0400 (Tue, 15 Jul 2025) EllapsedTime: 96.1 seconds RetCode: 0 Status: OK PackageFile: DuoClustering2018_1.26.0.tar.gz PackageFileSize: 2.209 MiB