Package: DuoClustering2018 Version: 1.26.0 Command: /home/biocbuild/bbs-3.21-bioc/R/bin/R CMD INSTALL DuoClustering2018 StartedAt: 2025-07-15 10:56:50 -0400 (Tue, 15 Jul 2025) EndedAt: 2025-07-15 10:57:02 -0400 (Tue, 15 Jul 2025) EllapsedTime: 11.7 seconds RetCode: 0 Status: OK