Package: FieldEffectCrc Version: 1.18.0 Command: /home/biocbuild/bbs-3.21-bioc/R/bin/R CMD INSTALL FieldEffectCrc StartedAt: 2025-10-16 11:01:21 -0400 (Thu, 16 Oct 2025) EndedAt: 2025-10-16 11:01:50 -0400 (Thu, 16 Oct 2025) EllapsedTime: 29.2 seconds RetCode: 0 Status: OK