Package: FlowSorted.Blood.450k Version: 1.46.0 Command: /home/biocbuild/bbs-3.21-bioc/R/bin/R CMD INSTALL FlowSorted.Blood.450k StartedAt: 2025-07-15 11:02:49 -0400 (Tue, 15 Jul 2025) EndedAt: 2025-07-15 11:04:01 -0400 (Tue, 15 Jul 2025) EllapsedTime: 72.0 seconds RetCode: 0 Status: OK