Package: FlowSorted.Blood.EPIC Version: 2.12.0 Command: /home/biocbuild/bbs-3.21-bioc/R/bin/R CMD build --keep-empty-dirs --no-resave-data FlowSorted.Blood.EPIC StartedAt: 2025-07-10 11:16:17 -0400 (Thu, 10 Jul 2025) EndedAt: 2025-07-10 11:21:55 -0400 (Thu, 10 Jul 2025) EllapsedTime: 337.7 seconds RetCode: 0 Status: OK PackageFile: FlowSorted.Blood.EPIC_2.12.0.tar.gz PackageFileSize: 96.18 KiB