Package: FlowSorted.Blood.EPIC Version: 2.12.0 Command: /home/biocbuild/bbs-3.21-bioc/R/bin/R CMD INSTALL FlowSorted.Blood.EPIC StartedAt: 2025-07-10 11:02:47 -0400 (Thu, 10 Jul 2025) EndedAt: 2025-07-10 11:03:31 -0400 (Thu, 10 Jul 2025) EllapsedTime: 43.6 seconds RetCode: 0 Status: OK