Package: FlowSorted.CordBlood.450k Version: 1.36.0 Maintainer: Shan V. Andrews MaintainerEmail: sandre17 at jhu.edu git_url: https://git.bioconductor.org/packages/FlowSorted.CordBlood.450k git_branch: RELEASE_3_21 git_last_commit: 48e016c git_last_commit_date: 2025-04-15 10:05:56 -0400 (Tue, 15 Apr 2025)