Package: FlowSorted.DLPFC.450k Version: 1.44.0 Command: /home/biocbuild/bbs-3.21-bioc/R/bin/R CMD INSTALL FlowSorted.DLPFC.450k StartedAt: 2025-07-15 11:02:44 -0400 (Tue, 15 Jul 2025) EndedAt: 2025-07-15 11:03:48 -0400 (Tue, 15 Jul 2025) EllapsedTime: 64.1 seconds RetCode: 0 Status: OK