Package: GenomicDistributionsData Version: 1.16.0 Command: /home/biocbuild/bbs-3.21-bioc/R/bin/R CMD INSTALL GenomicDistributionsData StartedAt: 2025-10-16 11:02:12 -0400 (Thu, 16 Oct 2025) EndedAt: 2025-10-16 11:02:48 -0400 (Thu, 16 Oct 2025) EllapsedTime: 35.8 seconds RetCode: 0 Status: OK