Package: GeuvadisTranscriptExpr Version: 1.36.0 Command: /home/biocbuild/bbs-3.21-bioc/R/bin/R CMD build --keep-empty-dirs --no-resave-data GeuvadisTranscriptExpr StartedAt: 2025-07-10 11:18:26 -0400 (Thu, 10 Jul 2025) EndedAt: 2025-07-10 11:19:00 -0400 (Thu, 10 Jul 2025) EllapsedTime: 33.5 seconds RetCode: 0 Status: OK PackageFile: GeuvadisTranscriptExpr_1.36.0.tar.gz PackageFileSize: 7.2 MiB