Package: HelloRangesData Version: 1.34.0 Command: /home/biocbuild/bbs-3.21-bioc/R/bin/R CMD build --keep-empty-dirs --no-resave-data HelloRangesData StartedAt: 2025-07-15 11:21:58 -0400 (Tue, 15 Jul 2025) EndedAt: 2025-07-15 11:22:33 -0400 (Tue, 15 Jul 2025) EllapsedTime: 34.8 seconds RetCode: 0 Status: OK PackageFile: HelloRangesData_1.34.0.tar.gz PackageFileSize: 45.73 MiB