Package: HelloRangesData Version: 1.34.0 Command: /home/biocbuild/bbs-3.21-bioc/R/bin/R CMD INSTALL HelloRangesData StartedAt: 2025-07-15 10:55:50 -0400 (Tue, 15 Jul 2025) EndedAt: 2025-07-15 10:55:57 -0400 (Tue, 15 Jul 2025) EllapsedTime: 6.7 seconds RetCode: 0 Status: OK