Package: HiCDataHumanIMR90 Version: 1.28.0 Command: /home/biocbuild/bbs-3.21-bioc/R/bin/R CMD build --keep-empty-dirs --no-resave-data HiCDataHumanIMR90 StartedAt: 2025-07-15 11:22:10 -0400 (Tue, 15 Jul 2025) EndedAt: 2025-07-15 11:22:57 -0400 (Tue, 15 Jul 2025) EllapsedTime: 46.9 seconds RetCode: 0 Status: OK PackageFile: HiCDataHumanIMR90_1.28.0.tar.gz PackageFileSize: 70.64 MiB