Package: HiCDataHumanIMR90 Version: 1.28.0 Command: /home/biocbuild/bbs-3.21-bioc/R/bin/R CMD INSTALL HiCDataHumanIMR90 StartedAt: 2025-07-15 10:55:50 -0400 (Tue, 15 Jul 2025) EndedAt: 2025-07-15 10:55:53 -0400 (Tue, 15 Jul 2025) EllapsedTime: 2.9 seconds RetCode: 0 Status: OK