Package: HighlyReplicatedRNASeq Version: 1.20.0 Command: /home/biocbuild/bbs-3.21-bioc/R/bin/R CMD INSTALL HighlyReplicatedRNASeq StartedAt: 2025-10-16 11:01:16 -0400 (Thu, 16 Oct 2025) EndedAt: 2025-10-16 11:01:41 -0400 (Thu, 16 Oct 2025) EllapsedTime: 25.7 seconds RetCode: 0 Status: OK