Package: LungCancerACvsSCCGEO Version: 1.44.0 Command: /home/biocbuild/bbs-3.21-bioc/R/bin/R CMD build --keep-empty-dirs --no-resave-data LungCancerACvsSCCGEO StartedAt: 2025-10-16 11:25:49 -0400 (Thu, 16 Oct 2025) EndedAt: 2025-10-16 11:29:19 -0400 (Thu, 16 Oct 2025) EllapsedTime: 209.7 seconds RetCode: 0 Status: OK PackageFile: LungCancerACvsSCCGEO_1.44.0.tar.gz PackageFileSize: 138.6 MiB