Package: LungCancerACvsSCCGEO Version: 1.44.0 Command: /home/biocbuild/bbs-3.21-bioc/R/bin/R CMD INSTALL LungCancerACvsSCCGEO StartedAt: 2025-10-16 10:56:00 -0400 (Thu, 16 Oct 2025) EndedAt: 2025-10-16 10:56:06 -0400 (Thu, 16 Oct 2025) EllapsedTime: 6.1 seconds RetCode: 0 Status: OK