Package: M3DExampleData Version: 1.34.0 Command: /home/biocbuild/bbs-3.21-bioc/R/bin/R CMD build --keep-empty-dirs --no-resave-data M3DExampleData StartedAt: 2025-07-10 11:25:41 -0400 (Thu, 10 Jul 2025) EndedAt: 2025-07-10 11:25:42 -0400 (Thu, 10 Jul 2025) EllapsedTime: 1.0 seconds RetCode: 0 Status: OK PackageFile: M3DExampleData_1.34.0.tar.gz PackageFileSize: 2.05 MiB