Package: M3DExampleData Version: 1.34.0 Command: /home/biocbuild/bbs-3.21-bioc/R/bin/R CMD INSTALL M3DExampleData StartedAt: 2025-07-10 10:55:38 -0400 (Thu, 10 Jul 2025) EndedAt: 2025-07-10 10:55:40 -0400 (Thu, 10 Jul 2025) EllapsedTime: 2.0 seconds RetCode: 0 Status: OK