Package: MMDiffBamSubset Version: 1.44.0 Command: /home/biocbuild/bbs-3.21-bioc/R/bin/R CMD INSTALL MMDiffBamSubset StartedAt: 2025-07-15 10:55:18 -0400 (Tue, 15 Jul 2025) EndedAt: 2025-07-15 10:55:22 -0400 (Tue, 15 Jul 2025) EllapsedTime: 4.5 seconds RetCode: 0 Status: OK