Package: MUGAExampleData Version: 1.28.0 Command: /home/biocbuild/bbs-3.21-bioc/R/bin/R CMD build --keep-empty-dirs --no-resave-data MUGAExampleData StartedAt: 2025-07-10 11:29:56 -0400 (Thu, 10 Jul 2025) EndedAt: 2025-07-10 11:30:07 -0400 (Thu, 10 Jul 2025) EllapsedTime: 11.0 seconds RetCode: 0 Status: OK PackageFile: MUGAExampleData_1.28.0.tar.gz PackageFileSize: 88.65 MiB