Package: MUGAExampleData Version: 1.28.0 Command: /home/biocbuild/bbs-3.21-bioc/R/bin/R CMD INSTALL MUGAExampleData StartedAt: 2025-07-10 10:55:51 -0400 (Thu, 10 Jul 2025) EndedAt: 2025-07-10 10:55:55 -0400 (Thu, 10 Jul 2025) EllapsedTime: 3.8 seconds RetCode: 0 Status: OK