Package: MetaScope Version: 1.8.1 Maintainer: Aubrey Odom MaintainerEmail: aodom at bu.edu git_url: https://git.bioconductor.org/packages/MetaScope git_branch: RELEASE_3_21 git_last_commit: b713f8c git_last_commit_date: 2025-05-04 17:55:56 -0400 (Sun, 04 May 2025)