Package: MetaScope Version: 1.8.1 Command: /home/biocbuild/bbs-3.21-bioc/R/bin/R CMD build --keep-empty-dirs --no-resave-data MetaScope StartedAt: 2025-10-16 11:27:41 -0400 (Thu, 16 Oct 2025) EndedAt: 2025-10-16 11:36:23 -0400 (Thu, 16 Oct 2025) EllapsedTime: 522.1 seconds RetCode: 0 Status: OK PackageFile: MetaScope_1.8.1.tar.gz PackageFileSize: 3.674 MiB