Package: MicrobiomeBenchmarkData Version: 1.10.0 Command: /home/biocbuild/bbs-3.21-bioc/R/bin/R CMD build --keep-empty-dirs --no-resave-data MicrobiomeBenchmarkData StartedAt: 2025-07-15 11:28:22 -0400 (Tue, 15 Jul 2025) EndedAt: 2025-07-15 11:29:23 -0400 (Tue, 15 Jul 2025) EllapsedTime: 60.5 seconds RetCode: 0 Status: OK PackageFile: MicrobiomeBenchmarkData_1.10.0.tar.gz PackageFileSize: 712.4 KiB