Package: MicrobiomeBenchmarkData Version: 1.10.0 Command: /home/biocbuild/bbs-3.21-bioc/R/bin/R CMD INSTALL MicrobiomeBenchmarkData StartedAt: 2025-07-15 10:59:54 -0400 (Tue, 15 Jul 2025) EndedAt: 2025-07-15 11:00:23 -0400 (Tue, 15 Jul 2025) EllapsedTime: 29.0 seconds RetCode: 0 Status: OK