Package: NetActivityData Version: 1.10.0 Command: /home/biocbuild/bbs-3.21-bioc/R/bin/R CMD INSTALL NetActivityData StartedAt: 2025-10-16 10:56:01 -0400 (Thu, 16 Oct 2025) EndedAt: 2025-10-16 10:56:07 -0400 (Thu, 16 Oct 2025) EllapsedTime: 5.1 seconds RetCode: 0 Status: OK