Package: OnassisJavaLibs Version: 1.30.0 Command: /home/biocbuild/bbs-3.21-bioc/R/bin/R CMD build --keep-empty-dirs --no-resave-data OnassisJavaLibs StartedAt: 2025-07-10 11:31:48 -0400 (Thu, 10 Jul 2025) EndedAt: 2025-07-10 11:31:59 -0400 (Thu, 10 Jul 2025) EllapsedTime: 11.1 seconds RetCode: 0 Status: OK PackageFile: OnassisJavaLibs_1.30.0.tar.gz PackageFileSize: 85.26 MiB