Package: OnassisJavaLibs Version: 1.30.0 Command: /home/biocbuild/bbs-3.21-bioc/R/bin/R CMD check --install=check:OnassisJavaLibs.install-out.txt --library=/home/biocbuild/bbs-3.21-bioc/R/site-library --timings OnassisJavaLibs_1.30.0.tar.gz StartedAt: 2025-07-10 12:41:59 -0400 (Thu, 10 Jul 2025) EndedAt: 2025-07-10 12:42:19 -0400 (Thu, 10 Jul 2025) EllapsedTime: 20.0 seconds RetCode: 0 Status: OK CheckDir: OnassisJavaLibs.Rcheck Warnings: 0