Package: OnassisJavaLibs Version: 1.30.0 Command: /home/biocbuild/bbs-3.21-bioc/R/bin/R CMD INSTALL OnassisJavaLibs StartedAt: 2025-07-10 10:56:04 -0400 (Thu, 10 Jul 2025) EndedAt: 2025-07-10 10:56:07 -0400 (Thu, 10 Jul 2025) EllapsedTime: 2.8 seconds RetCode: 0 Status: OK