Package: PasillaTranscriptExpr Version: 1.36.0 Command: /home/biocbuild/bbs-3.21-bioc/R/bin/R CMD build --keep-empty-dirs --no-resave-data PasillaTranscriptExpr StartedAt: 2025-07-10 11:32:20 -0400 (Thu, 10 Jul 2025) EndedAt: 2025-07-10 11:32:37 -0400 (Thu, 10 Jul 2025) EllapsedTime: 16.9 seconds RetCode: 0 Status: OK PackageFile: PasillaTranscriptExpr_1.36.0.tar.gz PackageFileSize: 783 KiB