Package: PathNetData Version: 1.44.0 Command: /home/biocbuild/bbs-3.21-bioc/R/bin/R CMD build --keep-empty-dirs --no-resave-data PathNetData StartedAt: 2025-07-10 11:32:20 -0400 (Thu, 10 Jul 2025) EndedAt: 2025-07-10 11:32:22 -0400 (Thu, 10 Jul 2025) EllapsedTime: 2.0 seconds RetCode: 0 Status: OK PackageFile: PathNetData_1.44.0.tar.gz PackageFileSize: 2.427 MiB