Package: PathNetData Version: 1.44.0 Command: /home/biocbuild/bbs-3.21-bioc/R/bin/R CMD INSTALL PathNetData StartedAt: 2025-07-10 10:55:51 -0400 (Thu, 10 Jul 2025) EndedAt: 2025-07-10 10:55:54 -0400 (Thu, 10 Jul 2025) EllapsedTime: 2.7 seconds RetCode: 0 Status: OK