Package: RGMQLlib Version: 1.28.0 Command: /home/biocbuild/bbs-3.21-bioc/R/bin/R CMD build --keep-empty-dirs --no-resave-data RGMQLlib StartedAt: 2025-07-10 11:35:00 -0400 (Thu, 10 Jul 2025) EndedAt: 2025-07-10 11:35:11 -0400 (Thu, 10 Jul 2025) EllapsedTime: 11.0 seconds RetCode: 0 Status: OK PackageFile: RGMQLlib_1.28.0.tar.gz PackageFileSize: 86.08 MiB