Package: RNAseqData.HNRNPC.bam.chr14 Version: 0.46.0 Command: /home/biocbuild/bbs-3.21-bioc/R/bin/R CMD build --keep-empty-dirs --no-resave-data RNAseqData.HNRNPC.bam.chr14 StartedAt: 2025-07-15 11:35:27 -0400 (Tue, 15 Jul 2025) EndedAt: 2025-07-15 11:36:11 -0400 (Tue, 15 Jul 2025) EllapsedTime: 44.7 seconds RetCode: 0 Status: OK PackageFile: RNAseqData.HNRNPC.bam.chr14_0.46.0.tar.gz PackageFileSize: 332.5 MiB