Package: RNAseqData.HNRNPC.bam.chr14 Version: 0.46.0 Command: /home/biocbuild/bbs-3.21-bioc/R/bin/R CMD INSTALL RNAseqData.HNRNPC.bam.chr14 StartedAt: 2025-07-15 10:55:48 -0400 (Tue, 15 Jul 2025) EndedAt: 2025-07-15 10:55:56 -0400 (Tue, 15 Jul 2025) EllapsedTime: 8.3 seconds RetCode: 0 Status: OK