Package: RTCGA.CNV Version: 1.36.0 Command: /home/biocbuild/bbs-3.21-bioc/R/bin/R CMD build --keep-empty-dirs --no-resave-data RTCGA.CNV StartedAt: 2025-07-15 11:36:05 -0400 (Tue, 15 Jul 2025) EndedAt: 2025-07-15 11:36:26 -0400 (Tue, 15 Jul 2025) EllapsedTime: 21.0 seconds RetCode: 0 Status: OK PackageFile: RTCGA.CNV_1.36.0.tar.gz PackageFileSize: 27.37 MiB