Package: RTCGA.CNV Version: 1.36.0 Command: /home/biocbuild/bbs-3.21-bioc/R/bin/R CMD INSTALL RTCGA.CNV StartedAt: 2025-07-15 10:58:10 -0400 (Tue, 15 Jul 2025) EndedAt: 2025-07-15 10:58:27 -0400 (Tue, 15 Jul 2025) EllapsedTime: 16.6 seconds RetCode: 0 Status: OK