Package: RTCGA.PANCAN12 Version: 1.36.0 Command: /home/biocbuild/bbs-3.21-bioc/R/bin/R CMD INSTALL RTCGA.PANCAN12 StartedAt: 2025-07-15 10:58:08 -0400 (Tue, 15 Jul 2025) EndedAt: 2025-07-15 10:58:17 -0400 (Tue, 15 Jul 2025) EllapsedTime: 9.2 seconds RetCode: 0 Status: OK