Package: RTCGA.mRNA Version: 1.36.0 Command: /home/biocbuild/bbs-3.21-bioc/R/bin/R CMD build --keep-empty-dirs --no-resave-data RTCGA.mRNA StartedAt: 2025-07-15 11:36:27 -0400 (Tue, 15 Jul 2025) EndedAt: 2025-07-15 11:37:06 -0400 (Tue, 15 Jul 2025) EllapsedTime: 39.6 seconds RetCode: 0 Status: OK PackageFile: RTCGA.mRNA_1.36.0.tar.gz PackageFileSize: 84.98 MiB