Package: RTCGA.mRNA Version: 1.36.0 Command: /home/biocbuild/bbs-3.21-bioc/R/bin/R CMD INSTALL RTCGA.mRNA StartedAt: 2025-07-15 10:58:11 -0400 (Tue, 15 Jul 2025) EndedAt: 2025-07-15 10:58:44 -0400 (Tue, 15 Jul 2025) EllapsedTime: 33.5 seconds RetCode: 0 Status: OK