Package: RTCGA.methylation Version: 1.36.0 Command: /home/biocbuild/bbs-3.21-bioc/R/bin/R CMD build --keep-empty-dirs --no-resave-data RTCGA.methylation StartedAt: 2025-07-15 11:36:12 -0400 (Tue, 15 Jul 2025) EndedAt: 2025-07-15 11:39:23 -0400 (Tue, 15 Jul 2025) EllapsedTime: 190.4 seconds RetCode: 0 Status: OK PackageFile: RTCGA.methylation_1.36.0.tar.gz PackageFileSize: 622.8 MiB