Package: RTCGA.mutations Version: 20151101.38.0 Command: /home/biocbuild/bbs-3.21-bioc/R/bin/R CMD build --keep-empty-dirs --no-resave-data RTCGA.mutations StartedAt: 2025-07-15 11:36:39 -0400 (Tue, 15 Jul 2025) EndedAt: 2025-07-15 11:39:58 -0400 (Tue, 15 Jul 2025) EllapsedTime: 198.6 seconds RetCode: 0 Status: OK PackageFile: RTCGA.mutations_20151101.38.0.tar.gz PackageFileSize: 103.8 MiB