Package: RTCGA.mutations Version: 20151101.38.0 Command: /home/biocbuild/bbs-3.21-bioc/R/bin/R CMD INSTALL RTCGA.mutations StartedAt: 2025-07-15 10:58:14 -0400 (Tue, 15 Jul 2025) EndedAt: 2025-07-15 11:01:27 -0400 (Tue, 15 Jul 2025) EllapsedTime: 193.4 seconds RetCode: 0 Status: OK