Package: RTCGA.rnaseq Version: 20151101.38.0 Command: /home/biocbuild/bbs-3.21-bioc/R/bin/R CMD build --keep-empty-dirs --no-resave-data RTCGA.rnaseq StartedAt: 2025-07-10 11:36:39 -0400 (Thu, 10 Jul 2025) EndedAt: 2025-07-10 11:40:12 -0400 (Thu, 10 Jul 2025) EllapsedTime: 212.8 seconds RetCode: 0 Status: OK PackageFile: RTCGA.rnaseq_20151101.38.0.tar.gz PackageFileSize: 612.6 MiB