Package: RTCGA.rnaseq Version: 20151101.38.0 Command: /home/biocbuild/bbs-3.21-bioc/R/bin/R CMD INSTALL RTCGA.rnaseq StartedAt: 2025-07-10 10:58:11 -0400 (Thu, 10 Jul 2025) EndedAt: 2025-07-10 11:01:02 -0400 (Thu, 10 Jul 2025) EllapsedTime: 171.3 seconds RetCode: 0 Status: OK