Package: RUVnormalizeData Version: 1.28.0 Command: /home/biocbuild/bbs-3.21-bioc/R/bin/R CMD build --keep-empty-dirs --no-resave-data RUVnormalizeData StartedAt: 2025-10-16 11:37:34 -0400 (Thu, 16 Oct 2025) EndedAt: 2025-10-16 11:37:41 -0400 (Thu, 16 Oct 2025) EllapsedTime: 6.5 seconds RetCode: 0 Status: OK PackageFile: RUVnormalizeData_1.28.0.tar.gz PackageFileSize: 7.726 MiB