Package: RUVnormalizeData Version: 1.28.0 Command: /home/biocbuild/bbs-3.21-bioc/R/bin/R CMD INSTALL RUVnormalizeData StartedAt: 2025-10-16 10:56:14 -0400 (Thu, 16 Oct 2025) EndedAt: 2025-10-16 10:56:16 -0400 (Thu, 16 Oct 2025) EllapsedTime: 2.0 seconds RetCode: 0 Status: OK